BEGIN:VCALENDAR
VERSION:2.0
PRODID:-//192.185.35.36//NONSGML kigkonsult.se iCalcreator 2.20//
CALSCALE:GREGORIAN
METHOD:PUBLISH
X-WR-CALNAME:MSFC Melbourne Science Fiction Club
X-WR-CALDESC:Reg&#039\;n No. A0024270N
X-FROM-URL:http://msfc.sf.org.au
X-WR-TIMEZONE:Australia/Melbourne
BEGIN:VTIMEZONE
TZID:Australia/Melbourne
X-LIC-LOCATION:Australia/Melbourne
BEGIN:STANDARD
DTSTART:20200405T030000
TZOFFSETFROM:+1100
TZOFFSETTO:+1000
TZNAME:EST
END:STANDARD
BEGIN:DAYLIGHT
DTSTART:20191006T020000
TZOFFSETFROM:+1000
TZOFFSETTO:+1100
TZNAME:EST
END:DAYLIGHT
END:VTIMEZONE
BEGIN:VEVENT
UID:ai1ec-1115@msfc.sf.org.au
DTSTAMP:20200302T075853Z
CATEGORIES:
CONTACT:
DESCRIPTION:<p>Video night</p>\n<p>The meeting starts at the usual time in 
 the usual place – doors open around 8pm\, meeting starts at 8:30pm at St A
 ugustine’s\, 100 Sydney Rd\, Coburg.</p>\n<p>Food and drinks will be avail
 able for a nominal</p>
DTSTART;TZID=Australia/Melbourne:20190215T200000
DTEND;TZID=Australia/Melbourne:20190215T230000
LOCATION:St Augustine's Church Hall @ 100 Sydney Rd\, Coburg
SEQUENCE:0
SUMMARY:Video night
URL:http://msfc.sf.org.au/event/video-night/
X-COST-TYPE:free
END:VEVENT
END:VCALENDAR
