BEGIN:VCALENDAR
VERSION:2.0
PRODID:-//192.185.35.36//NONSGML kigkonsult.se iCalcreator 2.20//
CALSCALE:GREGORIAN
METHOD:PUBLISH
X-WR-CALNAME:MSFC Melbourne Science Fiction Club
X-WR-CALDESC:Reg&#039\;n No. A0024270N
X-FROM-URL:http://msfc.sf.org.au
X-WR-TIMEZONE:Australia/Melbourne
BEGIN:VTIMEZONE
TZID:Australia/Melbourne
X-LIC-LOCATION:Australia/Melbourne
BEGIN:STANDARD
DTSTART:20200405T030000
TZOFFSETFROM:+1100
TZOFFSETTO:+1000
TZNAME:EST
END:STANDARD
BEGIN:DAYLIGHT
DTSTART:20191006T020000
TZOFFSETFROM:+1000
TZOFFSETTO:+1100
TZNAME:EST
END:DAYLIGHT
END:VTIMEZONE
BEGIN:VEVENT
UID:ai1ec-1111@msfc.sf.org.au
DTSTAMP:20200302T075459Z
CATEGORIES:
CONTACT:
DESCRIPTION:Where on Earth is Middle Earth?\nPresentation and discussion le
 d by Mark Ford.\nThe meeting starts at the usual time in the usual place –
  doors open around 8pm\, meeting starts at 8:30pm at St Augustine’s\, 100 
 Sydney Rd\, Coburg.\nFood and drinks will be available for a nominal fee.
DTSTART;TZID=Australia/Melbourne:20181116T200000
DTEND;TZID=Australia/Melbourne:20181116T230000
LOCATION:St Augustine's Church Hall @ 100 Sydney Rd\, Coburg
SEQUENCE:0
SUMMARY:Where on Earth is Middle Earth?
URL:http://msfc.sf.org.au/event/where-on-earth-is-middle-earth/
X-COST-TYPE:free
X-ALT-DESC;FMTTYPE=text/html:<!DOCTYPE HTML PUBLIC '-//W3C//DTD HTML 3.2//E
 N'>\\n<HTML>\\n<HEAD>\\n<TITLE></TITLE>\\n</HEAD>\\n<BODY><p>Where on Eart
 h is Middle Earth?</p>\n<p>Presentation and discussion led by Mark Ford.</
 p>\n<p>The meeting starts at the usual time in the usual place – doors ope
 n around 8pm\, meeting starts at 8:30pm at St Augustine’s\, 100 Sydney Rd\
 , Coburg.</p>\n<p>Food and drinks will be available for a nominal fee.</p>
 \n</BODY></HTML>
END:VEVENT
END:VCALENDAR
