BEGIN:VCALENDAR
VERSION:2.0
PRODID:-//192.185.35.36//NONSGML kigkonsult.se iCalcreator 2.20//
CALSCALE:GREGORIAN
METHOD:PUBLISH
X-WR-CALNAME:MSFC Melbourne Science Fiction Club
X-WR-CALDESC:Reg&#039\;n No. A0024270N
X-FROM-URL:http://msfc.sf.org.au
X-WR-TIMEZONE:Australia/Melbourne
BEGIN:VTIMEZONE
TZID:Australia/Melbourne
X-LIC-LOCATION:Australia/Melbourne
BEGIN:STANDARD
DTSTART:20200405T030000
TZOFFSETFROM:+1100
TZOFFSETTO:+1000
TZNAME:EST
END:STANDARD
BEGIN:DAYLIGHT
DTSTART:20191006T020000
TZOFFSETFROM:+1000
TZOFFSETTO:+1100
TZNAME:EST
END:DAYLIGHT
END:VTIMEZONE
BEGIN:VEVENT
UID:ai1ec-1109@msfc.sf.org.au
DTSTAMP:20200302T075051Z
CATEGORIES:
CONTACT:
DESCRIPTION:<p>The details for our meeting on Sunday\, 23 September are:</p
 >\n<p>Location: The Mummery Room\, Edendale Farm (address above)</p>\n<p><
 strong>1pm</strong> – meeting opens\, President welcome and MSFC intro.<br
  />\n<strong>1:30pm</strong> – Guest speaker – <strong>Darren Maxwell</str
 ong> from <a href='https://www.lcaproductions.com.au/'>Lights Camera Actio
 n!</a> He will talk about making movies and the history of fan films in Au
 stralia.<br />\n<strong>2:15pm</strong> – Break<br />\n<strong>2:30pm</str
 ong> – Guest speaker – <strong>Cheree Peters</strong> – author of <a href=
 'http://msfc.sf.org.au/event/sunday-23-september-edendale-farm-eltham/time
 -catcher/'>Time Catcher</a> and <a href='http://msfc.sf.org.au/event/sunda
 y-23-september-edendale-farm-eltham/time-warper/'>Time Warper</a><br />\n3
 :15pm – update from Librarian & President regarding the library\, followed
  by general socialising time.<br />\n4pm – Close</p>\n<p>Edendale Farm is 
 a nice place\, primarily a farm\, but also used for many public events and
  gatherings including educational forums etc. It is confirmed that they wi
 ll have baby lambs and goats in September (yay!)</p>\n<p>Tea and coffee fa
 cilities will be provided and snacks will be available for purchase. There
  is also a cafe on site serving ‘real’ coffee for those who want it.</p>\n
 <p>There is parking on site (enter through Gastons Rd)\, although it can g
 et busy\, so there is also ample parking at the Eltham North Adventure Pla
 yground (currently under construction)\, and there is a bridge and walkway
  via the back entrance of Edendale.</p>\n<p><strong>Cost:</strong> gold co
 in donation for members\, $5 non-members<br />\nChildren aged 14 and under
  free but <strong>MUST</strong> be accompanied by an adult. Some children’
 s activities will run\, but children <strong>MUST</strong> be accompanied 
 by an adult as we do not have childminding facilities.</p>\n<p>See our <a 
 href='https://www.facebook.com/events/1082805908510592/'>facebook event fo
 r more info</a>.</p>
DTSTART;TZID=Australia/Melbourne:20180923T130000
DTEND;TZID=Australia/Melbourne:20180923T160000
LOCATION:Edendale Farm\, Eltham @ 30 Gastons Rd\, Eltham VIC 3095
SEQUENCE:0
SUMMARY:Sunday 23 September – Edendale Farm\, Eltham
URL:http://msfc.sf.org.au/event/sunday-23-september-edendale-farm-eltham/
X-COST-TYPE:free
END:VEVENT
END:VCALENDAR
