BEGIN:VCALENDAR
VERSION:2.0
PRODID:-//192.185.35.36//NONSGML kigkonsult.se iCalcreator 2.20//
CALSCALE:GREGORIAN
METHOD:PUBLISH
X-WR-CALNAME:MSFC Melbourne Science Fiction Club
X-WR-CALDESC:Reg&#039\;n No. A0024270N
X-FROM-URL:http://msfc.sf.org.au
X-WR-TIMEZONE:Australia/Melbourne
BEGIN:VTIMEZONE
TZID:Australia/Melbourne
X-LIC-LOCATION:Australia/Melbourne
BEGIN:STANDARD
DTSTART:20200405T030000
TZOFFSETFROM:+1100
TZOFFSETTO:+1000
TZNAME:EST
END:STANDARD
BEGIN:DAYLIGHT
DTSTART:20191006T020000
TZOFFSETFROM:+1000
TZOFFSETTO:+1100
TZNAME:EST
END:DAYLIGHT
END:VTIMEZONE
BEGIN:VEVENT
UID:ai1ec-1079@msfc.sf.org.au
DTSTAMP:20200302T074832Z
CATEGORIES:
CONTACT:
DESCRIPTION:Please find here the notice for our AGM.\nThe AGM will be incor
 porated into the meeting\, along with coffee and conversation on Friday 20
 th July.\nUsual place (St Augustine’s Anglican Church Hall\, 100 Sydney Rd
 \, Coburg)\, usual time (20:30 or 08:30 pm). Doors open at 20:00 (08:00 pm
 ).\nThe proxy form is also available via the link below\, if you can’t mak
 e it but would like to give someone your vote. It must be mailed in or ema
 iled in before the meeting.\nIf you wish to have a place on the Committee 
 (it doesn’t have to be the Prez\, Vice People do a lot less work!)\, the n
 omination form is also available below. It needs two signatures and must b
 e in two weeks prior to the meeting (ie 7 July 2018).\nCome and have a say
  about our club.\n\n\nAGM Notice\, nomination form and proxy form.\n\n\nTh
 e Returning Officer can be reached:\nc/o MSFC\nPO Box 110\nMoonee Vale\, V
 ic 3055.\nor electronically via melbsfclub@yahoo.com.au
DTSTART;TZID=Australia/Melbourne:20180720T200000
DTEND;TZID=Australia/Melbourne:20180720T230000
LOCATION:St Augustine's Hall @ 100 Sydney Rd\, Coburg
SEQUENCE:0
SUMMARY:MSFC 2018 Annual General Meeting
URL:http://msfc.sf.org.au/event/msfc-2018-annual-general-meeting/
X-COST-TYPE:free
X-ALT-DESC;FMTTYPE=text/html:<!DOCTYPE HTML PUBLIC '-//W3C//DTD HTML 3.2//E
 N'>\\n<HTML>\\n<HEAD>\\n<TITLE></TITLE>\\n</HEAD>\\n<BODY><p>Please find h
 ere the <a href='http://msfc.sf.org.au/event/msfc-2018-annual-general-meet
 ing/msfc2018-agm-notice/'>notice for our AGM</a>.</p>\n<p>The AGM will be 
 incorporated into the meeting\, along with coffee and conversation on Frid
 ay 20th July.</p>\n<p>Usual place (St Augustine’s Anglican Church Hall\, 1
 00 Sydney Rd\, Coburg)\, usual time (20:30 or 08:30 pm). Doors open at 20:
 00 (08:00 pm).</p>\n<p>The proxy form is also available via the link below
 \, if you can’t make it but would like to give someone your vote. It must 
 be mailed in or emailed in <b>before</b> the meeting.</p>\n<p>If you wish 
 to have a place on the Committee (it doesn’t have to be the Prez\, Vice Pe
 ople do a lot less work!)\, the nomination form is also available below. I
 t needs two signatures and must be in two weeks prior to the meeting (ie 7
  July 2018).</p>\n<p>Come and have a say about our club.</p>\n<ul>\n<ul>\n
 <li><a href='http://msfc.sf.org.au/event/msfc-2018-annual-general-meeting/
 msfc2018-agm-notice/'>AGM Notice\, nomination form and proxy form</a>.</li
 >\n</ul>\n</ul>\n<p>The Returning Officer can be reached:</p>\n<p>c/o MSFC
 <br />\nPO Box 110<br />\nMoonee Vale\, Vic 3055.</p>\n<p>or electronicall
 y via <a href='mailto:melbsfclub@yahoo.com.au' target='_blank' rel='noopen
 er noreferrer'>melbsfclub@yahoo.com.au</a></p>\n</BODY></HTML>
END:VEVENT
END:VCALENDAR
