BEGIN:VCALENDAR
VERSION:2.0
PRODID:-//192.185.35.36//NONSGML kigkonsult.se iCalcreator 2.20//
CALSCALE:GREGORIAN
METHOD:PUBLISH
X-WR-CALNAME:MSFC Melbourne Science Fiction Club
X-WR-CALDESC:Reg&#039\;n No. A0024270N
X-FROM-URL:http://msfc.sf.org.au
X-WR-TIMEZONE:Australia/Melbourne
BEGIN:VTIMEZONE
TZID:Australia/Melbourne
X-LIC-LOCATION:Australia/Melbourne
BEGIN:STANDARD
DTSTART:20200405T030000
TZOFFSETFROM:+1100
TZOFFSETTO:+1000
TZNAME:EST
END:STANDARD
BEGIN:DAYLIGHT
DTSTART:20191006T020000
TZOFFSETFROM:+1000
TZOFFSETTO:+1100
TZNAME:EST
END:DAYLIGHT
END:VTIMEZONE
BEGIN:VEVENT
UID:ai1ec-1068@msfc.sf.org.au
DTSTAMP:20200302T074714Z
CATEGORIES:
CONTACT:
DESCRIPTION:Towel Day – Celebrating the life and work of Douglas Adams\nwww
 .towelday.org\nTowel Day is an annual celebration on the 25th of May\, as 
 a tribute to the late author Douglas Adams (1952-2001). On that day\, fans
  around the universe carry a towel in his honour.\nTowel day is the 25th o
 f May and Adams passed away on the 11th of May. Since our meeting\, on the
  18th of May\, is exactly half way between the two we’ve decided that Doug
 las Adams and his work would be a good choice for discussion.\nBring along
  your favourite Adams artifact for display and discussion.\nWe’ll also hav
 e the usual food and drinks available.\nEntry costs: $5 for members\, $7 f
 or non-members – food and drinks extra.
DTSTART;TZID=Australia/Melbourne:20180518T200000
DTEND;TZID=Australia/Melbourne:20180518T230000
LOCATION:St Augustine's Hall @ 100 Sydney Rd\, Coburg
SEQUENCE:0
SUMMARY:May 2018 meeting: Towel Day – Celebrating the life and work of Doug
 las Adams
URL:http://msfc.sf.org.au/event/may-2018-meeting-towel-day-celebrating-the-
 life-and-work-of-douglas-adams/
X-COST-TYPE:free
X-ALT-DESC;FMTTYPE=text/html:<!DOCTYPE HTML PUBLIC '-//W3C//DTD HTML 3.2//E
 N'>\\n<HTML>\\n<HEAD>\\n<TITLE></TITLE>\\n</HEAD>\\n<BODY><h2><a href='htt
 p://www.towelday.org/'>Towel Day – Celebrating the life and work of Dougla
 s Adams</a></h2>\n<p>www.towelday.org</p>\n<p>Towel Day is an annual celeb
 ration on the 25th of May\, as a tribute to the late author Douglas Adams 
 (1952-2001). On that day\, fans around the universe carry a towel in his h
 onour.</p>\n<p>Towel day is the 25th of May and Adams passed away on the 1
 1th of May. Since our meeting\, on the 18th of May\, is exactly half way b
 etween the two we’ve decided that Douglas Adams and his work would be a go
 od choice for discussion.</p>\n<p>Bring along your favourite Adams artifac
 t for display and discussion.</p>\n<p class='_4n-j _3cht fsl' data-testid=
 'event-permalink-details'><span class='_4n-j _3cht fsl' data-testid='event
 -permalink-details'>We’ll also have the usual food and drinks available.</
 span></p>\n<p class='_4n-j _3cht fsl' data-testid='event-permalink-details
 '>Entry costs: $5 for members\, $7 for non-members – food and drinks extra
 .</p>\n</BODY></HTML>
END:VEVENT
END:VCALENDAR
