BEGIN:VCALENDAR
VERSION:2.0
PRODID:-//192.185.35.36//NONSGML kigkonsult.se iCalcreator 2.20//
CALSCALE:GREGORIAN
METHOD:PUBLISH
X-WR-CALNAME:MSFC Melbourne Science Fiction Club
X-WR-CALDESC:Reg&#039\;n No. A0024270N
X-FROM-URL:http://msfc.sf.org.au
X-WR-TIMEZONE:Australia/Melbourne
BEGIN:VTIMEZONE
TZID:Australia/Melbourne
X-LIC-LOCATION:Australia/Melbourne
BEGIN:STANDARD
DTSTART:20200405T030000
TZOFFSETFROM:+1100
TZOFFSETTO:+1000
TZNAME:EST
END:STANDARD
BEGIN:DAYLIGHT
DTSTART:20191006T020000
TZOFFSETFROM:+1000
TZOFFSETTO:+1100
TZNAME:EST
END:DAYLIGHT
END:VTIMEZONE
BEGIN:VEVENT
UID:ai1ec-1062@msfc.sf.org.au
DTSTAMP:20200302T074546Z
CATEGORIES:
CONTACT:
DESCRIPTION:Pizza and video night – details to be provided shortly\, but li
 kely to be a ‘make your own’ toppings with a small fee for the food on top
  of the usual entry fee.\nAs usual\, doors will open at 8.00 pm for an 8.3
 0 pm start. There will be drinks\, snacks and good company.\nEveryone welc
 ome\nMembers: $2 entry\nNon-members: $5 entry
DTSTART;TZID=Australia/Melbourne:20180420T200000
DTEND;TZID=Australia/Melbourne:20180420T230000
LOCATION:St Augustine's Church Hall @ 100 Sydney Rd\, Coburg
SEQUENCE:0
SUMMARY:April 2018 meeting: pizza and video night
URL:http://msfc.sf.org.au/event/april-2018-meeting-pizza-and-video-night/
X-COST-TYPE:free
X-ALT-DESC;FMTTYPE=text/html:<!DOCTYPE HTML PUBLIC '-//W3C//DTD HTML 3.2//E
 N'>\\n<HTML>\\n<HEAD>\\n<TITLE></TITLE>\\n</HEAD>\\n<BODY><p>Pizza and vid
 eo night – details to be provided shortly\, but likely to be a ‘make your 
 own’ toppings with a small fee for the food on top of the usual entry fee.
 </p>\n<p>As usual\, doors will open at 8.00 pm for an 8.30 pm start. There
  will be drinks\, snacks and good company.</p>\n<p>Everyone welcome</p>\n<
 p>Members: $2 entry<br />\nNon-members: $5 entry</p>\n</BODY></HTML>
END:VEVENT
END:VCALENDAR
