BEGIN:VCALENDAR
VERSION:2.0
PRODID:-//192.185.35.36//NONSGML kigkonsult.se iCalcreator 2.20//
CALSCALE:GREGORIAN
METHOD:PUBLISH
X-WR-CALNAME:MSFC Melbourne Science Fiction Club
X-WR-CALDESC:Reg&#039\;n No. A0024270N
X-FROM-URL:http://msfc.sf.org.au
X-WR-TIMEZONE:Australia/Melbourne
BEGIN:VTIMEZONE
TZID:Australia/Melbourne
X-LIC-LOCATION:Australia/Melbourne
BEGIN:STANDARD
DTSTART:20200405T030000
TZOFFSETFROM:+1100
TZOFFSETTO:+1000
TZNAME:EST
END:STANDARD
BEGIN:DAYLIGHT
DTSTART:20191006T020000
TZOFFSETFROM:+1000
TZOFFSETTO:+1100
TZNAME:EST
END:DAYLIGHT
END:VTIMEZONE
BEGIN:VEVENT
UID:ai1ec-1055@msfc.sf.org.au
DTSTAMP:20200302T074430Z
CATEGORIES:
CONTACT:
DESCRIPTION:The meeting starts at the usual time in the usual place – 20:30
  (8:30 pm)\, St Augustine’s\, 100 Sydney Rd\, Moreland.\n\nCoffee and conv
 ersation\, Street Stall wrap up\, and planning of future meetings.\n\nBrin
 g along your ideas for consideration.\n\nIn honour of Pi day (3/14 in Amer
 ican notation – March 14th in ours) and St Pat’s on Saturday I may even br
 ing along a green pie. I promise it will be edible!   🙂\n\n\n\nLynC\nMembe
 rships\nMelbourne Science Fiction Club (MSFC)
DTSTART;TZID=Australia/Melbourne:20180316T203000
DTEND;TZID=Australia/Melbourne:20180316T230000
LOCATION:St Augustine's @ 100 Sydney Rd\, Coburg
SEQUENCE:0
SUMMARY:March 2018 meeting: Coffee and conversation
URL:http://msfc.sf.org.au/event/march-2018-meeting-coffee-and-conversation/
X-COST-TYPE:free
X-ALT-DESC;FMTTYPE=text/html:<!DOCTYPE HTML PUBLIC '-//W3C//DTD HTML 3.2//E
 N'>\\n<HTML>\\n<HEAD>\\n<TITLE></TITLE>\\n</HEAD>\\n<BODY><div>The meeting
  starts at the usual time in the usual place – 20:30 (8:30 pm)\, St August
 ine’s\, 100 Sydney Rd\, Moreland.</div>\n<div></div>\n<div>Coffee and conv
 ersation\, Street Stall wrap up\, and planning of future meetings.</div>\n
 <div></div>\n<div>Bring along your ideas for consideration.</div>\n<div></
 div>\n<div>In honour of Pi day (3/14 in American notation – March 14th in 
 ours) and St Pat’s on Saturday I may even bring along a green pie. I promi
 se it will be edible!   🙂</div>\n<div></div>\n<div class='defanged6-ydpc84
 80958signature'>\n<div>\n<div>LynC</div>\n<div>Memberships</div>\n<div>Mel
 bourne Science Fiction Club (MSFC)</div>\n</div>\n</div>\n</BODY></HTML>
END:VEVENT
END:VCALENDAR
