BEGIN:VCALENDAR
VERSION:2.0
PRODID:-//192.185.35.36//NONSGML kigkonsult.se iCalcreator 2.20//
CALSCALE:GREGORIAN
METHOD:PUBLISH
X-WR-CALNAME:MSFC Melbourne Science Fiction Club
X-WR-CALDESC:Reg&#039\;n No. A0024270N
X-FROM-URL:http://msfc.sf.org.au
X-WR-TIMEZONE:Australia/Melbourne
BEGIN:VTIMEZONE
TZID:Australia/Melbourne
X-LIC-LOCATION:Australia/Melbourne
BEGIN:STANDARD
DTSTART:20200405T030000
TZOFFSETFROM:+1100
TZOFFSETTO:+1000
TZNAME:EST
END:STANDARD
BEGIN:DAYLIGHT
DTSTART:20191006T020000
TZOFFSETFROM:+1000
TZOFFSETTO:+1100
TZNAME:EST
END:DAYLIGHT
END:VTIMEZONE
BEGIN:VEVENT
UID:ai1ec-1049@msfc.sf.org.au
DTSTAMP:20200302T074312Z
CATEGORIES:
CONTACT:
DESCRIPTION:<p>As in previous years\, the Club will be holding a stall to r
 aise funds.</p>\n<p>Any donations (of an SF nature) for sale at the Club’s
  stall will be gratefully received. Please bring to the February 2018 meet
 ing.</p>\n<p>And if you can spare a few hours on the day – come and join u
 s.</p>\n<h3 class='r'><a href='http://www.brunswickmusicfestival.com.au/sy
 dney-road-street-party/'>Sydney Road Street Party! | Brunswick Music Festi
 val 2018 | 4 March</a></h3>
DTSTART;TZID=Australia/Melbourne:20180304T120000
DTEND;TZID=Australia/Melbourne:20180304T190000
LOCATION:Sydney Rd\, Brunswick
SEQUENCE:0
SUMMARY:MSFC at the Sydney Rd Street Party
URL:http://msfc.sf.org.au/event/msfc-at-the-sydney-rd-street-party/
X-COST-TYPE:free
END:VEVENT
END:VCALENDAR
