BEGIN:VCALENDAR
VERSION:2.0
PRODID:-//192.185.35.36//NONSGML kigkonsult.se iCalcreator 2.20//
CALSCALE:GREGORIAN
METHOD:PUBLISH
X-WR-CALNAME:MSFC Melbourne Science Fiction Club
X-WR-CALDESC:Reg&#039\;n No. A0024270N
X-FROM-URL:http://msfc.sf.org.au
X-WR-TIMEZONE:Australia/Melbourne
BEGIN:VTIMEZONE
TZID:Australia/Melbourne
X-LIC-LOCATION:Australia/Melbourne
BEGIN:STANDARD
DTSTART:20200405T030000
TZOFFSETFROM:+1100
TZOFFSETTO:+1000
TZNAME:EST
END:STANDARD
BEGIN:DAYLIGHT
DTSTART:20191006T020000
TZOFFSETFROM:+1000
TZOFFSETTO:+1100
TZNAME:EST
END:DAYLIGHT
END:VTIMEZONE
BEGIN:VEVENT
UID:ai1ec-1048@msfc.sf.org.au
DTSTAMP:20200302T074156Z
CATEGORIES:
CONTACT:
DESCRIPTION:Videos brought to you by the duo – Mark and Jocko.\nStarts at u
 sual time (Doors open 20:00 [08:00 pm])\, usual place – St Augustine’s Ang
 lican Church\, 100 Sydney Rd\, Coburg.\nFor those new to the club – it doe
 sn’t look like a church! Especially with the new graffiti. (Is it still gr
 affiti when it has been commissioned?)\nComing from Moreland Road – you go
  past the pub on the Eastern side of Sydney Road. If you get to the Petrol
  station you have gone too far.\nFood and drinks will be available for a v
 ery nominal fee.\nThe Sydney Road Street Party  is on Sunday 4 March. As p
 er previous years\, the Club will be holding a stall to raise funds. Any d
 onations (of an SF nature) for sale at the Club’s stall will be gratefully
  received. Please bring to this meeting. And if you can spare a few hours 
 on the day – come and join us.
DTSTART;TZID=Australia/Melbourne:20180216T200000
DTEND;TZID=Australia/Melbourne:20180216T230000
LOCATION:St Augustine's @ 100 Sydney Rd\, Coburg
SEQUENCE:0
SUMMARY:February 2018 meeting: Videos by the duo – Mark and Jocko
URL:http://msfc.sf.org.au/event/february-2018-meeting-videos-by-the-duo-mar
 k-and-jocko/
X-COST-TYPE:free
X-ALT-DESC;FMTTYPE=text/html:<!DOCTYPE HTML PUBLIC '-//W3C//DTD HTML 3.2//E
 N'>\\n<HTML>\\n<HEAD>\\n<TITLE></TITLE>\\n</HEAD>\\n<BODY><p>Videos brough
 t to you by the duo – Mark and Jocko.</p>\n<p>Starts at usual time (Doors 
 open 20:00 [08:00 pm])\, usual place – St Augustine’s Anglican Church\, 10
 0 Sydney Rd\, Coburg.</p>\n<p>For those new to the club – it doesn’t look 
 like a church! Especially with the new graffiti. (Is it still graffiti whe
 n it has been commissioned?)</p>\n<p>Coming from Moreland Road – you go pa
 st the pub on the Eastern side of Sydney Road. If you get to the Petrol st
 ation you have gone too far.</p>\n<p>Food and drinks will be available for
  a very nominal fee.</p>\n<p>The Sydney Road Street Party  is on Sunday 4 
 March. As per previous years\, the Club will be holding a stall to raise f
 unds. Any donations (of an SF nature) for sale at the Club’s stall will be
  gratefully received. Please bring to this meeting. And if you can spare a
  few hours on the day – come and join us.</p>\n</BODY></HTML>
END:VEVENT
END:VCALENDAR
