BEGIN:VCALENDAR
VERSION:2.0
PRODID:-//192.185.35.36//NONSGML kigkonsult.se iCalcreator 2.20//
CALSCALE:GREGORIAN
METHOD:PUBLISH
X-WR-CALNAME:MSFC Melbourne Science Fiction Club
X-WR-CALDESC:Reg&#039\;n No. A0024270N
X-FROM-URL:http://msfc.sf.org.au
X-WR-TIMEZONE:Australia/Melbourne
BEGIN:VTIMEZONE
TZID:Australia/Melbourne
X-LIC-LOCATION:Australia/Melbourne
BEGIN:STANDARD
DTSTART:20200405T030000
TZOFFSETFROM:+1100
TZOFFSETTO:+1000
TZNAME:EST
END:STANDARD
BEGIN:DAYLIGHT
DTSTART:20191006T020000
TZOFFSETFROM:+1000
TZOFFSETTO:+1100
TZNAME:EST
END:DAYLIGHT
END:VTIMEZONE
BEGIN:VEVENT
UID:ai1ec-1042@msfc.sf.org.au
DTSTAMP:20200302T074030Z
CATEGORIES:
CONTACT:
DESCRIPTION:<p>First meeting for 2018!</p>\n<p>Happy holidays to those of y
 ou away whooping it up somewhere on your holiday break. For those of us st
 ill in town\, we will be catching up this Friday for a Relaxacon – a chanc
 e to talk about books\, movies\, TV shows we have been enjoying (whether n
 ew or newly discovered) over the holidays. There will also be some board /
  card games\, and perhaps a photo or two.</p>\n<p>Hot and cold drink and s
 nacks available from the Cafe at minimal prices.</p>\n<p>Our<span class='t
 ext_exposed_show'> drinks are non-alcoholic\, but some of our ilk like to 
 catch up at the Woodlands hotel next door for pre-dinner refreshments. (No
 t me this time alas.)</span></p>\n<p><span class='text_exposed_show'>Our d
 oors open 8pm\, with scheduled activities starting at 8:30pm.<br />\n</spa
 n></p>\n<p><span class='text_exposed_show'>Ciao tutti\, Alison.</span></p>
DTSTART;TZID=Australia/Melbourne:20180119T200000
DTEND;TZID=Australia/Melbourne:20180119T230000
LOCATION:St Augustine's @ 100 Sydney Road\, Coburg
SEQUENCE:0
SUMMARY:January 2018 meeting: Relaxacon
URL:http://msfc.sf.org.au/event/january-2018-meeting-relaxacon/
X-COST-TYPE:free
END:VEVENT
END:VCALENDAR
